BEGIN:VCALENDAR
VERSION:2.0
PRODID:-//Library Market//iCal Export//EN
BEGIN:VEVENT
SUMMARY:Volunteers Needed - Youth Chess Tournament
UID:79940
DTSTAMP:20260424T221700Z
DTSTART:20260616T203000Z
DTEND:20260616T223000Z
LOCATION:Prospect Heights Public Library District, 12 Elm Street, Prospect
  Heights, IL 60070, United States
ROOM: Volunteers Needed - Youth Chess Tournament
DESCRIPTION:Volunteers in grades 6 through adult are needed to help with t
 he Youth Chess Tournament.New student volunteers in grades 6–12: Please 
 email Robin at reyman@phpl.info.New adult volunteers: Please email Alice a
 t ajbisanz@phpl.info.
URL:https://www.phpl.info/event/volunteers-needed-youth-chess-tournament-7
 9940
END:VEVENT
END:VCALENDAR
