BEGIN:VCALENDAR
VERSION:2.0
PRODID:-//Library Market//iCal Export//EN
BEGIN:VEVENT
SUMMARY:Button Making
UID:79891
DTSTAMP:20260424T220200Z
DTSTART:20260617T180000Z
DTEND:20260617T190000Z
LOCATION:Prospect Heights Public Library District, 12 Elm Street, Prospect
  Heights, IL 60070, United States
ROOM: The LAB
DESCRIPTION:Learn to use the library&#039;s button makers and make your ow
 n free button, magnet or keychain. Please select a graphic and email it to
  bselep@phpl.info to be prepped for your button. All materials supplied. 
URL:https://www.phpl.info/event/button-making-79891
END:VEVENT
END:VCALENDAR
