BEGIN:VCALENDAR
VERSION:2.0
PRODID:-//Library Market//iCal Export//EN
BEGIN:VEVENT
SUMMARY:Volunteers Needed - Summer Reading Prep
UID:79889
DTSTAMP:20260422T222700Z
DTSTART:20260427T150000Z
DTEND:20260427T180000Z
LOCATION:Prospect Heights Public Library District, 12 Elm Street, Prospect
  Heights, IL 60070, United States
ROOM: Youth Program Room
DESCRIPTION:Help the Youth Department get ready for Summer Reading by asse
 mbling registration and class visit goody bags. Plan for one to two hours,
  though any time you can give is welcome. New volunteers, please email aj
 bisanz@phpl.info.
URL:https://www.phpl.info/event/volunteers-needed-summer-reading-prep-proj
 ects-79889
END:VEVENT
END:VCALENDAR
