BEGIN:VCALENDAR
VERSION:2.0
PRODID:-//Library Market//iCal Export//EN
BEGIN:VEVENT
SUMMARY:Summer Reading Kickoff Drop-in
UID:79888
DTSTAMP:20260424T220200Z
DTSTART:20260610T180000Z
DTEND:20260610T200000Z
LOCATION:Prospect Heights Public Library District, 12 Elm Street, Prospect
  Heights, IL 60070, United States
ROOM: The LAB
DESCRIPTION:Celebrate the Kickoff to Summer Reading at the Lab. We will ma
 ke seed cards you can go home and plant. Watch them grow as you grow throu
 gh reading. This is a drop-in event between 1-3pm. All materials supplied.
  
URL:https://www.phpl.info/event/summer-reading-kickoff-drop-79888
END:VEVENT
END:VCALENDAR
