BEGIN:VCALENDAR
VERSION:2.0
PRODID:-//Library Market//iCal Export//EN
BEGIN:VEVENT
SUMMARY:Creative Crafters Drop-in
UID:79886
DTSTAMP:20260424T220200Z
DTSTART:20260625T170000Z
DTEND:20260625T190000Z
LOCATION:Prospect Heights Public Library District, 12 Elm Street, Prospect
  Heights, IL 60070, United States
ROOM: The LAB
DESCRIPTION:Drop-in for all crafters! Join us on the 4th Thursday of every
  month from 12-2pm to meet fellow crafters, work on your art or crafts, an
 d build a creative community. Every month we will have a limited number of
  supplies for you to come and create as you wish.  Open to ages 16 &amp; 
 up.  
URL:https://www.phpl.info/event/creative-crafters-drop-79886
END:VEVENT
END:VCALENDAR
