BEGIN:VCALENDAR
VERSION:2.0
PRODID:-//Library Market//iCal Export//EN
BEGIN:VEVENT
SUMMARY:HS Volunteers Needed - Crochet 101
UID:79092
DTSTAMP:20260419T164300Z
DTSTART:20260607T200000Z
DTEND:20260607T213000Z
LOCATION:Prospect Heights Public Library District, 12 Elm Street, Prospect
  Heights, IL 60070, United States
ROOM: HS Volunteers Needed - Crochet 101
DESCRIPTION:Volunteers grades 9-12 are needed to help with our Crochet 101
  program, crochet experience a must as you will help participants should t
 hey need extra assistance with crochet projects. Email Robin, reyman@phpl
 .info if this is your first time volunteering at the library. 
URL:https://www.phpl.info/event/hs-volunteers-needed-crochet-101-79092
END:VEVENT
END:VCALENDAR
