BEGIN:VCALENDAR
VERSION:2.0
PRODID:-//Library Market//iCal Export//EN
BEGIN:VEVENT
SUMMARY:Young Artists Workshops: Character Room Signs
UID:79089
DTSTAMP:20260419T164300Z
DTSTART:20260612T210000Z
DTEND:20260612T223000Z
LOCATION:Prospect Heights Public Library District, 12 Elm Street, Prospect
  Heights, IL 60070, United States
ROOM: Youth Program Room
DESCRIPTION:Choose a character from your imagination, and use them in an a
 lphabet to make your own personalized room sign!
URL:https://www.phpl.info/event/young-artists-workshops-character-room-sig
 ns-79089
END:VEVENT
END:VCALENDAR
