BEGIN:VCALENDAR
VERSION:2.0
PRODID:-//Library Market//iCal Export//EN
BEGIN:VEVENT
SUMMARY:Youth Volunteers Needed - Summer Reading Kickoff Concert
UID:79085
DTSTAMP:20260419T164300Z
DTSTART:20260608T203000Z
DTEND:20260608T213000Z
LOCATION:Prospect Heights Public Library District, 12 Elm Street, Prospect
  Heights, IL 60070, United States
ROOM: Youth Volunteers Needed - Summer Reading Kickoff Concert
DESCRIPTION:Youth volunteers grades 6-12 needed to help with the Summer Re
 ading Kickoff Concert program. Email Robin, reyman@phpl.info if this is y
 our first time volunteering at the library. 
URL:https://www.phpl.info/event/youth-volunteers-needed-summer-reading-kic
 koff-concert-79085
END:VEVENT
END:VCALENDAR
