BEGIN:VCALENDAR
VERSION:2.0
PRODID:-//Library Market//iCal Export//EN
BEGIN:VEVENT
SUMMARY:HS Volunteers Needed - Young Journalists Club
UID:79084
DTSTAMP:20260419T195700Z
DTSTART:20260622T210000Z
DTEND:20260622T220000Z
LOCATION:Prospect Heights Public Library District, 12 Elm Street, Prospect
  Heights, IL 60070, United States
ROOM: HS Volunteers Needed - Young Journalists Club
DESCRIPTION:Volunteers grades 9-12 are needed to help with our Young Journ
 alists program. Email Robin, reyman@phpl.info if this is your first time 
 volunteering at the library. 
URL:https://www.phpl.info/event/hs-volunteers-needed-young-journalists-clu
 b-79084
END:VEVENT
END:VCALENDAR
