BEGIN:VCALENDAR
VERSION:2.0
PRODID:-//Library Market//iCal Export//EN
BEGIN:VEVENT
SUMMARY:Youth Volunteers Needed - Crafty Kids Club
UID:79081
DTSTAMP:20260419T183500Z
DTSTART:20260618T150000Z
DTEND:20260618T170000Z
LOCATION:Prospect Heights Public Library District, 12 Elm Street, Prospect
  Heights, IL 60070, United States
ROOM: Youth Volunteers Needed - Crafty Kids Club
DESCRIPTION:Youth volunteers grades 6-12 needed to help with the Crafty Ki
 ds Club. Email Robin, reyman@phpl.info if this is your first time volunte
 ering at the library. 
URL:https://www.phpl.info/event/youth-volunteers-needed-crafty-kids-club-7
 9081
END:VEVENT
END:VCALENDAR
