BEGIN:VCALENDAR
VERSION:2.0
PRODID:-//Library Market//iCal Export//EN
BEGIN:VEVENT
SUMMARY:Smash Bros. Tourney!
UID:79076
DTSTAMP:20260419T150400Z
DTSTART:20260604T220000Z
DTEND:20260605T000000Z
LOCATION:Prospect Heights Public Library District, 12 Elm Street, Prospect
  Heights, IL 60070, United States
ROOM: Youth Program Room
DESCRIPTION:Play as your favorite video game characters and defeat your ri
 vals in a fun virtual fight! (No DLC characters will be available. You are
  welcome to bring your own controller, but they can only be used for any r
 ounds AFTER the tourney ends, or on the extra screen available for those w
 aiting between matches.)NOTE: This program is meant to be a fun, positive
  experience. Negative commentary about someone’s play-style will not be 
 permitted.
URL:https://www.phpl.info/event/smash-bros-tourney-79076
END:VEVENT
END:VCALENDAR
