BEGIN:VCALENDAR
VERSION:2.0
PRODID:-//Library Market//iCal Export//EN
BEGIN:VEVENT
SUMMARY:Young Journalists Club
UID:79015
DTSTAMP:20260419T120000Z
DTSTART:20260518T210000Z
DTEND:20260518T220000Z
LOCATION:Prospect Heights Public Library District, 12 Elm Street, Prospect
  Heights, IL 60070, United States
ROOM: Youth Program Room
DESCRIPTION:Calling all writers and artists! The news team huddles for ano
 ther big assignment. All are welcome!
URL:https://www.phpl.info/event/young-journalists-club-79015
END:VEVENT
END:VCALENDAR
