BEGIN:VCALENDAR
VERSION:2.0
PRODID:-//Library Market//iCal Export//EN
BEGIN:VEVENT
SUMMARY:Dungeons and Dragons Club
UID:76975
DTSTAMP:20260419T134000Z
DTSTART:20260527T210000Z
DTEND:20260527T223000Z
LOCATION:Prospect Heights Public Library District, 12 Elm Street, Prospect
  Heights, IL 60070, United States
ROOM: Youth Program Room
DESCRIPTION:Grades 3-6Come join in monthly adventures that will send your 
 role-playing party on fantastical quests in the world of Dungeons and Drag
 ons! All experience levels welcome, from beginners to pros! Can register a
 s a group or solo! All materials provided.
URL:https://www.phpl.info/event/dungeons-and-dragons-club-76975
END:VEVENT
END:VCALENDAR
