BEGIN:VCALENDAR
VERSION:2.0
PRODID:-//Library Market//iCal Export//EN
BEGIN:VEVENT
SUMMARY:Mobile Department of Motor Vehicles
UID:76861
DTSTAMP:20260422T142100Z
DTSTART:20260812T183000Z
DTEND:20260812T190000Z
LOCATION:Prospect Heights Public Library District, 12 Elm Street, Prospect
  Heights, IL 60070, United States
ROOM: Meeting Room A&amp;B
DESCRIPTION:The DMV is coming to your library to provide the following lim
 ited services: Drivers Licenses (renewal, duplicate, corrected), State Ide
 ntification Card (first time, renewal, duplicate, corrected), Real IDs, Ve
 hicle Registration Stickers (registration expiring with the current year),
  Organ &amp; Tissue Donor/Voter Registration (only with license or ID App
 lication). Some services may have a charge -- Learn more at the https://
 www.ilsos.gov/ or ask for help at the Adult Service Desk.
URL:https://www.phpl.info/event/mobile-department-motor-vehicles-76861
END:VEVENT
END:VCALENDAR
